BEGIN:VCALENDAR
VERSION:2.0
PRODID:-//Slieve Bloom - ECPv6.15.20//NONSGML v1.0//EN
CALSCALE:GREGORIAN
METHOD:PUBLISH
X-WR-CALNAME:Slieve Bloom
X-ORIGINAL-URL:https://slievebloom.ie
X-WR-CALDESC:Events for Slieve Bloom
REFRESH-INTERVAL;VALUE=DURATION:PT1H
X-Robots-Tag:noindex
X-PUBLISHED-TTL:PT1H
BEGIN:VTIMEZONE
TZID:Europe/Dublin
BEGIN:DAYLIGHT
TZOFFSETFROM:+0000
TZOFFSETTO:+0100
TZNAME:IST
DTSTART:20250330T010000
END:DAYLIGHT
BEGIN:STANDARD
TZOFFSETFROM:+0100
TZOFFSETTO:+0000
TZNAME:GMT
DTSTART:20251026T010000
END:STANDARD
BEGIN:DAYLIGHT
TZOFFSETFROM:+0000
TZOFFSETTO:+0100
TZNAME:IST
DTSTART:20260329T010000
END:DAYLIGHT
BEGIN:STANDARD
TZOFFSETFROM:+0100
TZOFFSETTO:+0000
TZNAME:GMT
DTSTART:20261025T010000
END:STANDARD
BEGIN:DAYLIGHT
TZOFFSETFROM:+0000
TZOFFSETTO:+0100
TZNAME:IST
DTSTART:20270328T010000
END:DAYLIGHT
BEGIN:STANDARD
TZOFFSETFROM:+0100
TZOFFSETTO:+0000
TZNAME:GMT
DTSTART:20271031T010000
END:STANDARD
END:VTIMEZONE
BEGIN:VEVENT
DTSTART;TZID=Europe/Dublin:20260502T103000
DTEND;TZID=Europe/Dublin:20260502T130000
DTSTAMP:20260420T021403
CREATED:20260225T142244Z
LAST-MODIFIED:20260227T154533Z
UID:10000582-1777717800-1777726800@slievebloom.ie
SUMMARY:Festival Walk - Capard Woodlands
DESCRIPTION:
URL:https://slievebloom.ie/event/festival-walk-capard-woodlands/
CATEGORIES:Slieve Bloom Walking Festival 2026,Slieve Bloom Walks
END:VEVENT
BEGIN:VEVENT
DTSTART;TZID=Europe/Dublin:20260502T103000
DTEND;TZID=Europe/Dublin:20260502T140000
DTSTAMP:20260420T021403
CREATED:20260225T142154Z
LAST-MODIFIED:20260303T162657Z
UID:10000583-1777717800-1777730400@slievebloom.ie
SUMMARY:Festival Walk - Brittas Lake and Woodlands
DESCRIPTION:
URL:https://slievebloom.ie/event/festival-walk-brittas-lake-and-woodlands/
CATEGORIES:Slieve Bloom Walking Festival 2026
END:VEVENT
BEGIN:VEVENT
DTSTART;TZID=Europe/Dublin:20260502T103000
DTEND;TZID=Europe/Dublin:20260502T150000
DTSTAMP:20260420T021403
CREATED:20260225T142022Z
LAST-MODIFIED:20260303T162622Z
UID:10000584-1777717800-1777734000@slievebloom.ie
SUMMARY:Festival Walk - Knockastumpa
DESCRIPTION:
URL:https://slievebloom.ie/event/festival-walk-knockastumpa/
CATEGORIES:Slieve Bloom Walking Festival 2026
END:VEVENT
BEGIN:VEVENT
DTSTART;TZID=Europe/Dublin:20260503T103000
DTEND;TZID=Europe/Dublin:20260503T140000
DTSTAMP:20260420T021403
CREATED:20260225T141932Z
LAST-MODIFIED:20260303T162544Z
UID:10000586-1777804200-1777816800@slievebloom.ie
SUMMARY:Festival Walk - Kinnitty Woodlands
DESCRIPTION:
URL:https://slievebloom.ie/event/festival-walk-kinnitty-woodlands/
CATEGORIES:Slieve Bloom Walking Festival 2026
END:VEVENT
BEGIN:VEVENT
DTSTART;TZID=Europe/Dublin:20260503T103000
DTEND;TZID=Europe/Dublin:20260503T143000
DTSTAMP:20260420T021403
CREATED:20260225T141832Z
LAST-MODIFIED:20260303T162503Z
UID:10000587-1777804200-1777818600@slievebloom.ie
SUMMARY:Festival Walk - Paul's Lane/Spink Mountain
DESCRIPTION:
URL:https://slievebloom.ie/event/festival-walk-pauls-lane-spink-mountain/
CATEGORIES:Slieve Bloom Walking Festival 2026
END:VEVENT
BEGIN:VEVENT
DTSTART;TZID=Europe/Dublin:20260503T130000
DTEND;TZID=Europe/Dublin:20260503T150000
DTSTAMP:20260420T021403
CREATED:20260225T141732Z
LAST-MODIFIED:20260303T162411Z
UID:10000588-1777813200-1777820400@slievebloom.ie
SUMMARY:Festival Walk - Knockbarron
DESCRIPTION:
URL:https://slievebloom.ie/event/festival-walk-knockbarron/
CATEGORIES:Slieve Bloom Walking Festival 2026
END:VEVENT
BEGIN:VEVENT
DTSTART;TZID=Europe/Dublin:20260504T110000
DTEND;TZID=Europe/Dublin:20260504T153000
DTSTAMP:20260420T021403
CREATED:20260225T141709Z
LAST-MODIFIED:20260301T142850Z
UID:10000585-1777892400-1777908600@slievebloom.ie
SUMMARY:Festival Walk - Conlawn Hill
DESCRIPTION:
URL:https://slievebloom.ie/event/festival-walk-conlawn-hill/
CATEGORIES:Slieve Bloom Walking Festival 2026
END:VEVENT
BEGIN:VEVENT
DTSTART;VALUE=DATE:20261231
DTEND;VALUE=DATE:20270101
DTSTAMP:20260420T021403
CREATED:20251209T135213Z
LAST-MODIFIED:20260317T203746Z
UID:10000555-1798675200-1798761599@slievebloom.ie
SUMMARY:Upcoming Events
DESCRIPTION:
URL:https://slievebloom.ie/event/upcoming-events/
CATEGORIES:Slieve Bloom Walks,Weekly Walks
END:VEVENT
END:VCALENDAR