BEGIN:VCALENDAR
VERSION:2.0
PRODID:-//Slieve Bloom - ECPv6.15.20//NONSGML v1.0//EN
CALSCALE:GREGORIAN
METHOD:PUBLISH
X-WR-CALNAME:Slieve Bloom
X-ORIGINAL-URL:https://slievebloom.ie
X-WR-CALDESC:Events for Slieve Bloom
REFRESH-INTERVAL;VALUE=DURATION:PT1H
X-Robots-Tag:noindex
X-PUBLISHED-TTL:PT1H
BEGIN:VTIMEZONE
TZID:Europe/Dublin
BEGIN:DAYLIGHT
TZOFFSETFROM:+0000
TZOFFSETTO:+0100
TZNAME:IST
DTSTART:20250330T010000
END:DAYLIGHT
BEGIN:STANDARD
TZOFFSETFROM:+0100
TZOFFSETTO:+0000
TZNAME:GMT
DTSTART:20251026T010000
END:STANDARD
BEGIN:DAYLIGHT
TZOFFSETFROM:+0000
TZOFFSETTO:+0100
TZNAME:IST
DTSTART:20260329T010000
END:DAYLIGHT
BEGIN:STANDARD
TZOFFSETFROM:+0100
TZOFFSETTO:+0000
TZNAME:GMT
DTSTART:20261025T010000
END:STANDARD
BEGIN:DAYLIGHT
TZOFFSETFROM:+0000
TZOFFSETTO:+0100
TZNAME:IST
DTSTART:20270328T010000
END:DAYLIGHT
BEGIN:STANDARD
TZOFFSETFROM:+0100
TZOFFSETTO:+0000
TZNAME:GMT
DTSTART:20271031T010000
END:STANDARD
END:VTIMEZONE
BEGIN:VEVENT
DTSTART;TZID=Europe/Dublin:20260425T130000
DTEND;TZID=Europe/Dublin:20260425T150000
DTSTAMP:20260425T021247
CREATED:20260421T101659Z
LAST-MODIFIED:20260421T101659Z
UID:10000605-1777122000-1777129200@slievebloom.ie
SUMMARY:Bluebell's Woodland Walk
DESCRIPTION:
URL:https://slievebloom.ie/event/bluebells-woodland-walk/
CATEGORIES:Slieve Bloom Walks,Weekly Walks
END:VEVENT
END:VCALENDAR